Workbook

Sheet Equipement
A1: CODE EQUIPEMENT | B1: DESIGNATION EQUIPEMENT | C1: CODE PÈRE | D1: TYPE EQUIPEMENT | E1: MARQUE | F1: MODELE | G1: N° SERIE | H1: STATUT
A2: ALLYX | B2: Allyx Technologies
A3: AT1 | B3: Atelier 01 | C3: ALLYX
A4: AT2 | B4: Atelier 02 | C4: ALLYX
A5: CO22 | B5: Compresseur 22 | C5: AT1 | D5: Machines
A6: CHAUD | B6: Chaudière | C6: AT2 | D6: Machines

Sheet Piece - Stock
A1: CODE | B1: DESIGNATION | C1: FAMILLE | D1: SOUS FAMILLE | E1: UNITE STOCK | F1: UNITE COMMANDE | G1: COEFFICIENT (Unité Cde = X x unite stock) | H1: MAGASIN | I1: EMPLACEMENT (Dans le magasin) | J1: QTE REELLE EN STOCK | K1: SEUIL REAPPRO | L1: QTE MAXI
A2: C015813 | B2: DISTRIBUTEUR MECAFLUID REF:DS2B | C2: Distributeurs | D2: 2 voies | E2: Unité | F2: Boite 10 | G2: 10 | H2: Magasin | I2: STOCK-0001-0027-011-05 | J2: 10 | K2: 2 | L2: 30
A3: 22500473 | B3: Galets supérieur

Sheet Equipement (2)
A1: Code Equipement | B1: New | C1: Designation Equipement | D1: Code_Pere | E1: Famille equipement | F1: Marque | G1: Modèle | H1: N série | I1: est | J1: Doublon
A2: 1 | B2: 1 | C2: Usine VenP
A3: 2 | B3: 810 | C3: Infrastructure | D3: 1
A4: 3 | B4: 813 | C4: Levage - Manutention | D4: 1
A5: 14 | B5: 1596 | C5: 1596 - Ctrl Coulisse
A6: 18 | B6: 1233 | C6: 1233 - *MOO | D6: 401
A7: 19 | B7: 1561 | C7: 1561 - *EMES | D7: 401
A8: 20 | B8: 1576 | C8: 1576 - * IMOBERORF 2 | D8: 200
A9: 21 | B9: 1626 | C9: 1626 - *MOO | D9: 402
A10: 25 | B10: 1547 | C10: 1547 - COULISSE A BILLES | D10: F91
A11: 26 | B11: 1758 | C11: 1758 - ASSEMBLAGE LEVIER | D11: EDISON
A12: 27 | B12: 1759 | C12: 1759 - ASSEMBLAGE SYSTÈME DE SERRAGE | D12: EDISON
A13: 28 | B13: 1760 | C13: 1760 - EMMANCHEMENT RLT ET TUBES | D13: EDISON
A14: 29 | B14: 1761 | C14: 1761 - Montage ressort | D14: EDISON
A15: 30 | B15: 1762 | C15: 1762 - ASSEMBLAGE SUPPORT DE COLONNE | D15: EDISON
A16: 31 | B16: 1763 | C16: 1763 - Contrôle Final | D16: EDISON
A17: 32 | B17: 1780 | C17: 1780 - Sécurisation emballage | D17: MLBEVO
A18: 33 | B18: 1396 | C18: 1396 - Coulisse-Prépa | D18: B8INF
A19: 34 | B19: 1567 | C19: 1567 - Coulisse | D19: B8INF
A20: 35 | B20: 1471 | C20: 1471 - Injection ENGEL | D20: B8INF
A21: 36 | B21: 1562 | C21: 1562 - *MOO | D21: 403
A22: 37 | B22: 1497 | C22: 1497 - OKU2
A23: 38 | B23: 1601 | C23: 1601 - *EMES | D23: 403
A24: 39 | B24: 4 | C24: 4 - référence outillage pré-montage
A25: 40 | B25: 1600 | C25: 1600 - *MOO | D25: 404
A26: 41 | B26: 1076 | C26: 1076 - *EMS | D26: 404
A27: 42 | B27: 1079 | C27: 1079 - *EMS | D27: 405
A28: 43 | B28: 1621 | C28: 1621 - *EMES IPTE | D28: 406
A29: 44 | B29: 1734 | C29: 1734 - *EMES IPTE | D29: 411
A30: 45 | B30: 1620 | C30: 1620 - *EMES | D30: 411
A31: 46 | B31: 1445 | C31: 1445 - MES | D31: 409
A32: 47 | B32: 1237 | C32: 1237 - *MES | D32: 413
A33: 48 | B33: 1236 | C33: 1236 - *MES | D33: 414
A34: 49 | B34: 1235 | C34: 1235 - *MES | D34: 407
A35: 50 | B35: 1144 | C35: 1144 - *EMS | D35: 408
A36: 50 | B36: EPSC | C36: UAP - EPSC | D36: 1
... A44: 58 | B44: 1051 | C44: 1051 - NAF-NAF | D44: 412
A45: 59 | B45: 1634 | C45: 1634 - presse
A46: 60 | B46: 1234 | C46: 1234 - *MOO | D46: 413
A47: 61 | B47: 1232 | C47: 1232 - *MOO | D47: 414
A48: 62 | B48: 1085 | C48: 1085 - *MOO | D48: 407
A49: 63 | B49: 997 | C49: 997 - *MOO | D49: 408
A50: 64 | B50: 1078 | C50: 1078 - *EMS | D50: 408
A51: 65 | B51: 1641 | C51: 1641 - *MOO | D51: 409
A52: 66 | B52: 1086 | C52: 1086 - *MOO | D52: 410
A53: 67 | B53: 1724 | C53: 1724 - *MOO | D53: 415
A54: 68 | B54: 221 | C54: 221 - MO
A55: 69 | B55: 222 | C55: 222 - MO
A56: 70 | B56: 716 | C56: 716 - *CATAPHORESE | D56: 400
A57: 71 | B57: 273 | C57: 273 - *PHOSPHATATION | D57: 400
A58: 73 | B58: 743 | C58: 743 - FELSS 2 | D58: 300
A59: 74 | B59: 867 | C59: 867 - FELSS 3 | D59: 300
A60: 75 | B60: 879 | C60: 879 - FELSS 4 | D60: 300
A61: 76 | B61: 1025 | C61: 1025 - FELSS 5 | D61: 300
A62: 77 | B62: 1113 | C62: 1113 - FELSS 6 | D62: 300
A63: 78 | B63: 1192 | C63: 1192 - FELSS 7 | D63: 300
A64: 79 | B64: 1311 | C64: 1311 - *MULLER 2 | D64: 300
A65: 80 | B65: 1442 | C65: 1442 - *MULLER 3 | D65: 300
A66: 81 | B66: 1573 | C66: 1573 - *MULLER 4 | D66: 300
A67: 83 | B67: 1578 | C67: 1578 - *MULLER 6 | D67: 300
A68: 84 | B68: 882 | C68: 882 - *ADIGE | D68: 300
A69: 85 | B69: 888 | C69: 888 - *Machine à laver SERMATEC COUPE | D69: 300
A70: 86 | B70: 1216 | C70: 1216 - Machine à laver CABER
A71: 87 | B71: 1498 | C71: 1498 - Machine à laver CABER
A72: 88 | B72: 1464 | C72: 1464 - TOUR INDEX
A73: 89 | B73: 1663 | C73: 1663 - *RSA | D73: 300
A74: 90 | B74: 759 | C74: 759 - *SINICO
A75: 91 | B75: 1583 | C75: 1583 - assemblage coulisse a bille n°2 | D75: EPSILON2
A76: 93 | B76: 1591 | C76: 1591 - poste dechargement ligne 1 E2 | D76: EPSILON2
A77: 94 | B77: 1592 | C77: 1592 - poste dechargement ligne 2 E2 | D77: EPSILON2
A78: 95 | B78: 989 | C78: 989 - Presse injection plastique
A79: 96 | B79: 1061 | C79: 1061 - Assemblage corps X76
A80: 97 | B80: 1062 | C80: 1062 - Préparation corps X76
A81: 98 | B81: 1063 | C81: 1063 - Montage soufflet X76
A82: 99 | B82: 1064 | C82: 1064 - Manchon glissant X76
A83: 100 | B83: 1075 | C83: 1075 - COLLAPSABLE X76
A84: 101 | B84: 1294 | C84: 1294 - EMMANCHEMENT BOUCHON X76
A85: 102 | B85: 1314 | C85: 1314 - soudure laser
A86: 103 | B86: 1357 | C86: 1357 - montage manchon | D86: POSTE TOUS
A87: 104 | B87: 1385 | C87: 1385 - injection coulisse | D87: TRANS
A88: 105 | B88: 1609 | C88: 1609 - 1609-Contrôle coulisse | D88: W2
A89: 106 | B89: 1637 | C89: 1637 - Presse Injection Plastique ENGEL | D89: TRANS
A90: 107 | B90: 1756 | C90: 1756 - Assemblage roulement inf | D90: TRANS
A91: 108 | B91: 1757 | C91: 1757 - Controle coulisse inf | D91: TRANS
A92: 109 | B92: 1781 | C92: 1781 - Groupe hydraulique riveteuses N°1 | D92: MLBEVO
A93: 110 | B93: 1782 | C93: 1782 - Groupe hydraulique riveteuses N°2 | D93: MLBEVO
A94: 111 | B94: 1787 | C94: 1787 - Poste JDT VS20 | D94: POSTE TOUS
A95: 112 | B95: 1242 | C95: 1242 - Injection plastique | D95: VS20 TILT
A96: 113 | B96: 1262 | C96: 1262 - Montage roulement sur corps Inf.
A97: 114 | B97: 1263 | C97: 1263 - Assemblage roulement supérieur
A98: 115 | B98: 1264 | C98: 1264 - Assemblage patte en U
A99: 116 | B99: 1265 | C99: 1265 - Emmanchement corps inf/corps sup.
A100: 117 | B100: 1266 | C100: 1266 - Assemblage levier sur colonne
A101: 118 | B101: 1267 | C101: 1267 - Montage ressort de rappel
A102: 119 | B102: 1268 | C102: 1268 - Contrôle cannelure et montage clips
A103: 120 | B103: 1269 | C103: 1269 - Contrôle final
A104: 121 | B104: 1271 | C104: 1271 - Montage manchon
A105: 122 | B105: 1281 | C105: 1281 - Injection plastique | D105: IVECO
A106: 123 | B106: 1282 | C106: 1282 - Contrôle coulisse
A107: 124 | B107: 1351 | C107: 1351 - Montage rivet
...

Sheet  Equipement V1
A1: Code Equipement | B1: Designation Equipement | C1: Code_Pere | D1: Famille equipement | E1: Marque | F1: Modèle | G1: N série
A2: 1 | B2: Machines Production
A3: 2 | B3: Infrastructure
A4: 3 | B4: Levage - Manutention
B5: UAP - Axes
B6: UAP - Machoires
B7: UAP - Premontage
B8: UAP - Assemblage
B9: UAP - EPSC
A15: 14 | B15: 1596 - Ctrl Coulisse | C15: 1
A16: 18 | B16: 1233 - *MOO | C16: 1
A17: 19 | B17: 1561 - *EMES | C17: 1
A18: 20 | B18: 1576 - * IMOBERORF 2 | C18: 1
A19: 21 | B19: 1626 - *MOO | C19: 1
A20: 25 | B20: 1547 - COULISSE A BILLES | C20: 1
A21: 26 | B21: 1758 - ASSEMBLAGE LEVIER | C21: 1
A22: 27 | B22: 1759 - ASSEMBLAGE SYSTÈME DE SERRAGE | C22: 1
A23: 28 | B23: 1760 - EMMANCHEMENT RLT ET TUBES | C23: 1
A24: 29 | B24: 1761 - Montage ressort | C24: 1
A25: 30 | B25: 1762 - ASSEMBLAGE SUPPORT DE COLONNE | C25: 1
A26: 31 | B26: 1763 - Contrôle Final | C26: 1
... A3690: 12256 | B3690: Gravage | C3690: 6587

Sheet Equipement Pièces
A1: CODE PIECE | B1: CODE EQUIPEMENT | C1: QUANTITE PAR EQUIPEMENT
A2: C015813 | B2: CO22 | C2: 1
A3: ZV0000000799 | B3: CO22 | C3: 2
A4: ZV0000000815 | B4: CHAUD | C4: 1

Sheet Feuil4
A3: Code_Pere | B3: Designation Equipement
A4: 1
B5: 54 Global ligne
B6: 970 - Atelier Proto
B7: After market
B8: Atelier Essais
B9: FCM
B10: Levage - Manutention
B11: UAP 100 - Presses
B12: UAP 200 - Usinage Machoires
B13: UAP 300 - Axes
B14: UAP 400 - PREMONTAGE
B15: UAP 500 - ASSEMBLAGE
A16: 50
B17: 1362 - Cellule robotisé emballage
B18: 1912 - DRIVE UNIT: Station 300
B19: 1913 - DRIVE UNIT: Station 310
B20: 1914 - DRIVE UNIT: Station 320
B21: 1915 - DRIVE UNIT: Station 330
B22: 1916 - DRIVE UNIT: Station 340
B23: 1917 - DRIVE UNIT: Station 360
B24: 1918 - DRIVE UNIT: Station 370
B25: 1919 - DRIVE UNIT: Station 380
B26: 1920 - DRIVE UNIT: Station 600
B27: 1921 - DRIVE UNIT: Station 610
B28: 1922 - DRIVE UNIT: Station 620
... B39: 1957 - DRIVE UNIT: Station 455
A40: 51
B41: 1946 - POWER PACK: Station 510
B42: 1947 - POWER PACK: Station 520
B43: 1948 - POWER PACK: Station 530
B44: 1949 - POWER PACK: Station 550.1
B45: 1950 - POWER PACK: Station 550.2
B46: 1951 - POWER PACK: Station 560.1
B47: 1952 - POWER PACK: Station 560.2
B48: 1953 - POWER PACK: Station 580
A49: 52
B50: 1714 - Presse Injection Plastique
B51: 1935 - UPPER COLOMN: Station 400
B52: 1936 - UPPER COLOMN: Station 410
B53: 1937 - UPPER COLOMN: Station 420
B54: 1938 - UPPER COLOMN: Station 430
B55: 1939 - UPPER COLOMN: Station 440
B56: 1940 - UPPER COLOMN: Station 450
B57: 1941 - UPPER COLOMN: Station 460/470
B58: 1942 - UPPER COLOMN: Station 480.1
B59: 1943 - UPPER COLOMN: Station 480.2
B60: 1944 - UPPER COLOMN: Station 485
B61: 1945 - UPPER COLOMN: Station 490
A62: 53
B63: 1592 - poste dechargement ligne 2 E2
B64: 1811 - Presse injection ENGEL
B65: 1901 - SENSOR UNIT: Station 100 et 110
B66: 1902 - SENSOR UNIT: Station 140
B67: 1903 - SENSOR UNIT: Station 160
B68: 1904 - SENSOR UNIT: Station 170
B69: 1905 - SENSOR UNIT: Station 180-1
B70: 1906 - SENSOR UNIT: Station 180-2
B71: 1907 - SENSOR UNIT: Station 190-1
B72: 1908 - SENSOR UNIT: Station 190-2
B73: 1909 - SENSOR UNIT: Station 190-3
B74: 1910 - SENSOR UNIT: Station 210
B75: 1911 - SENSOR UNIT: Station 230
A76: 54
B77: 50 - Line Drive unit & Packaging
B78: 51 - Line Power Pack
B79: 52 - Line Upper Column
B80: 53 - Line Sensor unit & lock
A81: 100
B82: 1368 - Presse de découpe
B83: 1553 - Presse MANZONI
B84: 5 - BRET
B85: 741 - Presse MANZONI
B86: 789 - Presse MANZONI
B87: 922 - Presse de découpe
B88: 932 - Presse MANZONI
A89: 200
B90: 1004 - Sermati - Usinage oreille VN127
B91: 1005 - Sermati - Alesage oreille VN127
B92: 1118 - POSALUX 5
B93: 1287 - ALESEUSE 6
B94: 1569 - IMOBERDORF 1
B95: 1570 - CMO 1
B96: 1576 - IMOBERORF 2
B97: 1577 - CMO 2
B98: 1627 - IMOBERORF 3
B99: 1628 - CMO 3
B100: 1662 - CHIRON 3
B101: 1745 - * CERI
... B107: 973 - CHIRON 2
A108: 273
B109: bain n°1
B110: bain n°10
B111: bain n°11
B112: bain n°2
B113: bain n°3
B114: bain n°4
B115: bain n°5
B116: bain n°6
B117: bain n°7
...

Sheet Feuil2
A1: N-2 | B1: New code N-2 | C1: doublon N-2 | D1: père n-2 | E1: New | F1: père n-1 | G1: Doublon N-1
A2: 10054 | B2: =VLOOKUP(A2,'Equipement (2)'!$A$401:$K$4000,2,FALSE) -> Ctrl_Ctrl_1596 | C2: =VLOOKUP(A2,'Equipement (2)'!$A$401:$K$4000,11,FALSE) -> doublon | D2: =VLOOKUP(A2,'Equipement (2)'!$A$401:$K$4000,4,FALSE) -> 5062 | E2: =VLOOKUP(D2,'Equipement (2)'!$A$401:$K$1720,2,FALSE) -> Ctrl_1596 | F2: =VLOOKUP(D2,'Equipement (2)'!$A$401:$K$1720,4,FALSE) -> 1596 | G2: =VLOOKUP(D2,'Equipement (2)'!$A$401:$K$1720,11,FALSE) -> Doublon | I2: =IF(C2="niv inf",B2,IF(G2="niv inf",E2,F2)) -> 1596
A3: 10074 | B3: =VLOOKUP(A3,'Equipement (2)'!$A$401:$K$4000,2,FALSE) -> bol _alim_1233 | C3: =VLOOKUP(A3,'Equipement (2)'!$A$401:$K$4000,11,FALSE) -> niv inf | D3: =VLOOKUP(A3,'Equipement (2)'!$A$401:$K$4000,4,FALSE) -> 5071 | E3: =VLOOKUP(D3,'Equipement (2)'!$A$401:$K$1720,2,FALSE) -> alim_1233 | F3: =VLOOKUP(D3,'Equipement (2)'!$A$401:$K$1720,4,FALSE) -> 1233 | G3: =VLOOKUP(D3,'Equipement (2)'!$A$401:$K$1720,11,FALSE) -> niv inf | I3: =IF(C3="niv inf",B3,IF(G3="niv inf",E3,F3)) -> bol _alim_1233
A4: 10075 | B4: =VLOOKUP(A4,'Equipement (2)'!$A$401:$K$4000,2,FALSE) -> pous_alim_1233 | C4: =VLOOKUP(A4,'Equipement (2)'!$A$401:$K$4000,11,FALSE) -> niv inf | D4: =VLOOKUP(A4,'Equipement (2)'!$A$401:$K$4000,4,FALSE) -> 5071 | E4: =VLOOKUP(D4,'Equipement (2)'!$A$401:$K$1720,2,FALSE) -> alim_1233 | F4: =VLOOKUP(D4,'Equipement (2)'!$A$401:$K$1720,4,FALSE) -> 1233 | G4: =VLOOKUP(D4,'Equipement (2)'!$A$401:$K$1720,11,FALSE) -> niv inf | I4: =IF(C4="niv inf",B4,IF(G4="niv inf",E4,F4)) -> pous_alim_1233
A5: 10076 | B5: =VLOOKUP(A5,'Equipement (2)'!$A$401:$K$4000,2,FALSE) -> cont_alim_1233 | C5: =VLOOKUP(A5,'Equipement (2)'!$A$401:$K$4000,11,FALSE) -> niv inf | D5: =VLOOKUP(A5,'Equipement (2)'!$A$401:$K$4000,4,FALSE) -> 5071 | E5: =VLOOKUP(D5,'Equipement (2)'!$A$401:$K$1720,2,FALSE) -> alim_1233 | F5: =VLOOKUP(D5,'Equipement (2)'!$A$401:$K$1720,4,FALSE) -> 1233 | G5: =VLOOKUP(D5,'Equipement (2)'!$A$401:$K$1720,11,FALSE) -> niv inf | I5: =IF(C5="niv inf",B5,IF(G5="niv inf",E5,F5)) -> cont_alim_1233
A6: 10077 | B6: =VLOOKUP(A6,'Equipement (2)'!$A$401:$K$4000,2,FALSE) -> alim_alim_1233 | C6: =VLOOKUP(A6,'Equipement (2)'!$A$401:$K$4000,11,FALSE) -> niv inf | D6: =VLOOKUP(A6,'Equipement (2)'!$A$401:$K$4000,4,FALSE) -> 5071 | E6: =VLOOKUP(D6,'Equipement (2)'!$A$401:$K$1720,2,FALSE) -> alim_1233 | F6: =VLOOKUP(D6,'Equipement (2)'!$A$401:$K$1720,4,FALSE) -> 1233 | G6: =VLOOKUP(D6,'Equipement (2)'!$A$401:$K$1720,11,FALSE) -> niv inf | I6: =IF(C6="niv inf",B6,IF(G6="niv inf",E6,F6)) -> alim_alim_1233
A7: 10078 | B7: =VLOOKUP(A7,'Equipement (2)'!$A$401:$K$4000,2,FALSE) -> croc_mise_1233 | C7: =VLOOKUP(A7,'Equipement (2)'!$A$401:$K$4000,11,FALSE) -> niv inf | D7: =VLOOKUP(A7,'Equipement (2)'!$A$401:$K$4000,4,FALSE) -> 5072 | E7: =VLOOKUP(D7,'Equipement (2)'!$A$401:$K$1720,2,FALSE) -> mise_1233 | F7: =VLOOKUP(D7,'Equipement (2)'!$A$401:$K$1720,4,FALSE) -> 1233 | G7: =VLOOKUP(D7,'Equipement (2)'!$A$401:$K$1720,11,FALSE) -> niv inf | I7: =IF(C7="niv inf",B7,IF(G7="niv inf",E7,F7)) -> croc_mise_1233
A8: 10079 | B8: =VLOOKUP(A8,'Equipement (2)'!$A$401:$K$4000,2,FALSE) -> croc_mise_1233 | C8: =VLOOKUP(A8,'Equipement (2)'!$A$401:$K$4000,11,FALSE) -> niv inf | D8: =VLOOKUP(A8,'Equipement (2)'!$A$401:$K$4000,4,FALSE) -> 5072 | E8: =VLOOKUP(D8,'Equipement (2)'!$A$401:$K$1720,2,FALSE) -> mise_1233 | F8: =VLOOKUP(D8,'Equipement (2)'!$A$401:$K$1720,4,FALSE) -> 1233 | G8: =VLOOKUP(D8,'Equipement (2)'!$A$401:$K$1720,11,FALSE) -> niv inf | I8: =IF(C8="niv inf",B8,IF(G8="niv inf",E8,F8)) -> croc_mise_1233
A9: 10080 | B9: =VLOOKUP(A9,'Equipement (2)'!$A$401:$K$4000,2,FALSE) -> appu_mise_1233 | C9: =VLOOKUP(A9,'Equipement (2)'!$A$401:$K$4000,11,FALSE) -> niv inf | D9: =VLOOKUP(A9,'Equipement (2)'!$A$401:$K$4000,4,FALSE) -> 5072 | E9: =VLOOKUP(D9,'Equipement (2)'!$A$401:$K$1720,2,FALSE) -> mise_1233 | F9: =VLOOKUP(D9,'Equipement (2)'!$A$401:$K$1720,4,FALSE) -> 1233 | G9: =VLOOKUP(D9,'Equipement (2)'!$A$401:$K$1720,11,FALSE) -> niv inf | I9: =IF(C9="niv inf",B9,IF(G9="niv inf",E9,F9)) -> appu_mise_1233
A10: 10081 | B10: =VLOOKUP(A10,'Equipement (2)'!$A$401:$K$4000,2,FALSE) -> appu_mise_1233 | C10: =VLOOKUP(A10,'Equipement (2)'!$A$401:$K$4000,11,FALSE) -> niv inf | D10: =VLOOKUP(A10,'Equipement (2)'!$A$401:$K$4000,4,FALSE) -> 5072 | E10: =VLOOKUP(D10,'Equipement (2)'!$A$401:$K$1720,2,FALSE) -> mise_1233 | F10: =VLOOKUP(D10,'Equipement (2)'!$A$401:$K$1720,4,FALSE) -> 1233 | G10: =VLOOKUP(D10,'Equipement (2)'!$A$401:$K$1720,11,FALSE) -> niv inf | I10: =IF(C10="niv inf",B10,IF(G10="niv inf",E10,F10)) -> appu_mise_1233
A11: 10082 | B11: =VLOOKUP(A11,'Equipement (2)'!$A$401:$K$4000,2,FALSE) -> cont_mise_1233 | C11: =VLOOKUP(A11,'Equipement (2)'!$A$401:$K$4000,11,FALSE) -> niv inf | D11: =VLOOKUP(A11,'Equipement (2)'!$A$401:$K$4000,4,FALSE) -> 5072 | E11: =VLOOKUP(D11,'Equipement (2)'!$A$401:$K$1720,2,FALSE) -> mise_1233 | F11: =VLOOKUP(D11,'Equipement (2)'!$A$401:$K$1720,4,FALSE) -> 1233 | G11: =VLOOKUP(D11,'Equipement (2)'!$A$401:$K$1720,11,FALSE) -> niv inf | I11: =IF(C11="niv inf",B11,IF(G11="niv inf",E11,F11)) -> cont_mise_1233
A12: 10083 | B12: =VLOOKUP(A12,'Equipement (2)'!$A$401:$K$4000,2,FALSE) -> tête_emma_1233 | C12: =VLOOKUP(A12,'Equipement (2)'!$A$401:$K$4000,11,FALSE) -> niv inf | D12: =VLOOKUP(A12,'Equipement (2)'!$A$401:$K$4000,4,FALSE) -> 5073 | E12: =VLOOKUP(D12,'Equipement (2)'!$A$401:$K$1720,2,FALSE) -> emma_1233 | F12: =VLOOKUP(D12,'Equipement (2)'!$A$401:$K$1720,4,FALSE) -> 1233 | G12: =VLOOKUP(D12,'Equipement (2)'!$A$401:$K$1720,11,FALSE) -> niv inf | I12: =IF(C12="niv inf",B12,IF(G12="niv inf",E12,F12)) -> tête_emma_1233
A13: 10084 | B13: =VLOOKUP(A13,'Equipement (2)'!$A$401:$K$4000,2,FALSE) -> avan_emma_1233 | C13: =VLOOKUP(A13,'Equipement (2)'!$A$401:$K$4000,11,FALSE) -> niv inf | D13: =VLOOKUP(A13,'Equipement (2)'!$A$401:$K$4000,4,FALSE) -> 5073 | E13: =VLOOKUP(D13,'Equipement (2)'!$A$401:$K$1720,2,FALSE) -> emma_1233 | F13: =VLOOKUP(D13,'Equipement (2)'!$A$401:$K$1720,4,FALSE) -> 1233 | G13: =VLOOKUP(D13,'Equipement (2)'!$A$401:$K$1720,11,FALSE) -> niv inf | I13: =IF(C13="niv inf",B13,IF(G13="niv inf",E13,F13)) -> avan_emma_1233
... A1937: 12181 | B1937: =VLOOKUP(A1937,'Equipement (2)'!$A$401:$K$4000,2,FALSE) -> St40_ST400_1935 | C1937: =VLOOKUP(A1937,'Equipement (2)'!$A$401:$K$4000,11,FALSE) -> doublon | D1937: =VLOOKUP(A1937,'Equipement (2)'!$A$401:$K$4000,4,FALSE) -> 6530 | E1937: =VLOOKUP(D1937,'Equipement (2)'!$A$401:$K$1720,2,FALSE) -> ST400_1935 | F1937: =VLOOKUP(D1937,'Equipement (2)'!$A$401:$K$1720,4,FALSE) -> 1935 | G1937: =VLOOKUP(D1937,'Equipement (2)'!$A$401:$K$1720,11,FALSE) -> Doublon | I1937: =IF(C1937="niv inf",B1937,IF(G1937="niv inf",E1937,F1937)) -> 1935
A1938: 12182 | B1938: =VLOOKUP(A1938,'Equipement (2)'!$A$401:$K$4000,2,FALSE) -> St41_ST410_400 | C1938: =VLOOKUP(A1938,'Equipement (2)'!$A$401:$K$4000,11,FALSE) -> doublon | D1938: =VLOOKUP(A1938,'Equipement (2)'!$A$401:$K$4000,4,FALSE) -> 6531 | E1938: =VLOOKUP(D1938,'Equipement (2)'!$A$401:$K$1720,2,FALSE) -> ST410_400 | F1938: 1936 | G1938: =VLOOKUP(D1938,'Equipement (2)'!$A$401:$K$1720,11,FALSE) -> Doublon | I1938: =IF(C1938="niv inf",B1938,IF(G1938="niv inf",E1938,F1938)) -> 1936
A1939: 12183 | B1939: =VLOOKUP(A1939,'Equipement (2)'!$A$401:$K$4000,2,FALSE) -> St42_ST420_1937 | C1939: =VLOOKUP(A1939,'Equipement (2)'!$A$401:$K$4000,11,FALSE) -> doublon | D1939: =VLOOKUP(A1939,'Equipement (2)'!$A$401:$K$4000,4,FALSE) -> 6532 | E1939: =VLOOKUP(D1939,'Equipement (2)'!$A$401:$K$1720,2,FALSE) -> ST420_1937 | F1939: =VLOOKUP(D1939,'Equipement (2)'!$A$401:$K$1720,4,FALSE) -> 1937 | G1939: =VLOOKUP(D1939,'Equipement (2)'!$A$401:$K$1720,11,FALSE) -> Doublon | I1939: =IF(C1939="niv inf",B1939,IF(G1939="niv inf",E1939,F1939)) -> 1937
A1940: 12184 | B1940: =VLOOKUP(A1940,'Equipement (2)'!$A$401:$K$4000,2,FALSE) -> St43_ST430_1938 | C1940: =VLOOKUP(A1940,'Equipement (2)'!$A$401:$K$4000,11,FALSE) -> doublon | D1940: =VLOOKUP(A1940,'Equipement (2)'!$A$401:$K$4000,4,FALSE) -> 6533 | E1940: =VLOOKUP(D1940,'Equipement (2)'!$A$401:$K$1720,2,FALSE) -> ST430_1938 | F1940: =VLOOKUP(D1940,'Equipement (2)'!$A$401:$K$1720,4,FALSE) -> 1938 | G1940: =VLOOKUP(D1940,'Equipement (2)'!$A$401:$K$1720,11,FALSE) -> Doublon | I1940: =IF(C1940="niv inf",B1940,IF(G1940="niv inf",E1940,F1940)) -> 1938
A1941: 12185 | B1941: =VLOOKUP(A1941,'Equipement (2)'!$A$401:$K$4000,2,FALSE) -> St44_ST440_1939 | C1941: =VLOOKUP(A1941,'Equipement (2)'!$A$401:$K$4000,11,FALSE) -> doublon | D1941: =VLOOKUP(A1941,'Equipement (2)'!$A$401:$K$4000,4,FALSE) -> 6534 | E1941: =VLOOKUP(D1941,'Equipement (2)'!$A$401:$K$1720,2,FALSE) -> ST440_1939 | F1941: =VLOOKUP(D1941,'Equipement (2)'!$A$401:$K$1720,4,FALSE) -> 1939 | G1941: =VLOOKUP(D1941,'Equipement (2)'!$A$401:$K$1720,11,FALSE) -> Doublon | I1941: =IF(C1941="niv inf",B1941,IF(G1941="niv inf",E1941,F1941)) -> 1939
A1942: 12186 | B1942: =VLOOKUP(A1942,'Equipement (2)'!$A$401:$K$4000,2,FALSE) -> St45_ST450_1940 | C1942: =VLOOKUP(A1942,'Equipement (2)'!$A$401:$K$4000,11,FALSE) -> doublon | D1942: =VLOOKUP(A1942,'Equipement (2)'!$A$401:$K$4000,4,FALSE) -> 6535 | E1942: =VLOOKUP(D1942,'Equipement (2)'!$A$401:$K$1720,2,FALSE) -> ST450_1940 | F1942: =VLOOKUP(D1942,'Equipement (2)'!$A$401:$K$1720,4,FALSE) -> 1940 | G1942: =VLOOKUP(D1942,'Equipement (2)'!$A$401:$K$1720,11,FALSE) -> Doublon | I1942: =IF(C1942="niv inf",B1942,IF(G1942="niv inf",E1942,F1942)) -> 1940
A1943: 12187 | B1943: =VLOOKUP(A1943,'Equipement (2)'!$A$401:$K$4000,2,FALSE) -> St46_ST460_1941 | C1943: =VLOOKUP(A1943,'Equipement (2)'!$A$401:$K$4000,11,FALSE) -> doublon | D1943: =VLOOKUP(A1943,'Equipement (2)'!$A$401:$K$4000,4,FALSE) -> 6536 | E1943: =VLOOKUP(D1943,'Equipement (2)'!$A$401:$K$1720,2,FALSE) -> ST460_1941 | F1943: =VLOOKUP(D1943,'Equipement (2)'!$A$401:$K$1720,4,FALSE) -> 1941 | G1943: =VLOOKUP(D1943,'Equipement (2)'!$A$401:$K$1720,11,FALSE) -> Doublon | I1943: =IF(C1943="niv inf",B1943,IF(G1943="niv inf",E1943,F1943)) -> 1941
A1944: 12188 | B1944: =VLOOKUP(A1944,'Equipement (2)'!$A$401:$K$4000,2,FALSE) -> St47_ST470_1941 | C1944: =VLOOKUP(A1944,'Equipement (2)'!$A$401:$K$4000,11,FALSE) -> doublon | D1944: =VLOOKUP(A1944,'Equipement (2)'!$A$401:$K$4000,4,FALSE) -> 6537 | E1944: =VLOOKUP(D1944,'Equipement (2)'!$A$401:$K$1720,2,FALSE) -> ST470_1941 | F1944: =VLOOKUP(D1944,'Equipement (2)'!$A$401:$K$1720,4,FALSE) -> 1941 | G1944: =VLOOKUP(D1944,'Equipement (2)'!$A$401:$K$1720,11,FALSE) -> Doublon | I1944: =IF(C1944="niv inf",B1944,IF(G1944="niv inf",E1944,F1944)) -> 1941
A1945: 12189 | B1945: =VLOOKUP(A1945,'Equipement (2)'!$A$401:$K$4000,2,FALSE) -> St48_ST480.1_1942 | C1945: =VLOOKUP(A1945,'Equipement (2)'!$A$401:$K$4000,11,FALSE) -> doublon | D1945: =VLOOKUP(A1945,'Equipement (2)'!$A$401:$K$4000,4,FALSE) -> 6538 | E1945: =VLOOKUP(D1945,'Equipement (2)'!$A$401:$K$1720,2,FALSE) -> ST480.1_1942 | F1945: =VLOOKUP(D1945,'Equipement (2)'!$A$401:$K$1720,4,FALSE) -> 1942 | G1945: =VLOOKUP(D1945,'Equipement (2)'!$A$401:$K$1720,11,FALSE) -> Doublon | I1945: =IF(C1945="niv inf",B1945,IF(G1945="niv inf",E1945,F1945)) -> 1942
A1946: 12190 | B1946: =VLOOKUP(A1946,'Equipement (2)'!$A$401:$K$4000,2,FALSE) -> St48_ST480.2_1943 | C1946: =VLOOKUP(A1946,'Equipement (2)'!$A$401:$K$4000,11,FALSE) -> doublon | D1946: =VLOOKUP(A1946,'Equipement (2)'!$A$401:$K$4000,4,FALSE) -> 6539 | E1946: =VLOOKUP(D1946,'Equipement (2)'!$A$401:$K$1720,2,FALSE) -> ST480.2_1943 | F1946: =VLOOKUP(D1946,'Equipement (2)'!$A$401:$K$1720,4,FALSE) -> 1943 | G1946: =VLOOKUP(D1946,'Equipement (2)'!$A$401:$K$1720,11,FALSE) -> Doublon | I1946: =IF(C1946="niv inf",B1946,IF(G1946="niv inf",E1946,F1946)) -> 1943
A1947: 12191 | B1947: =VLOOKUP(A1947,'Equipement (2)'!$A$401:$K$4000,2,FALSE) -> St48_ST485_1944 | C1947: =VLOOKUP(A1947,'Equipement (2)'!$A$401:$K$4000,11,FALSE) -> doublon | D1947: =VLOOKUP(A1947,'Equipement (2)'!$A$401:$K$4000,4,FALSE) -> 6540 | E1947: =VLOOKUP(D1947,'Equipement (2)'!$A$401:$K$1720,2,FALSE) -> ST485_1944 | F1947: =VLOOKUP(D1947,'Equipement (2)'!$A$401:$K$1720,4,FALSE) -> 1944 | G1947: =VLOOKUP(D1947,'Equipement (2)'!$A$401:$K$1720,11,FALSE) -> Doublon | I1947: =IF(C1947="niv inf",B1947,IF(G1947="niv inf",E1947,F1947)) -> 1944
A1948: 12192 | B1948: =VLOOKUP(A1948,'Equipement (2)'!$A$401:$K$4000,2,FALSE) -> St49_ST490_1945 | C1948: =VLOOKUP(A1948,'Equipement (2)'!$A$401:$K$4000,11,FALSE) -> doublon | D1948: =VLOOKUP(A1948,'Equipement (2)'!$A$401:$K$4000,4,FALSE) -> 6541 | E1948: =VLOOKUP(D1948,'Equipement (2)'!$A$401:$K$1720,2,FALSE) -> ST490_1945 | F1948: =VLOOKUP(D1948,'Equipement (2)'!$A$401:$K$1720,4,FALSE) -> 1945 | G1948: =VLOOKUP(D1948,'Equipement (2)'!$A$401:$K$1720,11,FALSE) -> Doublon | I1948: =IF(C1948="niv inf",B1948,IF(G1948="niv inf",E1948,F1948)) -> 1945
A1949: 12193 | B1949: =VLOOKUP(A1949,'Equipement (2)'!$A$401:$K$4000,2,FALSE) -> St 3_ST330_1915 | C1949: =VLOOKUP(A1949,'Equipement (2)'!$A$401:$K$4000,11,FALSE) -> doublon | D1949: =VLOOKUP(A1949,'Equipement (2)'!$A$401:$K$4000,4,FALSE) -> 6542 | E1949: =VLOOKUP(D1949,'Equipement (2)'!$A$401:$K$1720,2,FALSE) -> ST330_1915 | F1949: =VLOOKUP(D1949,'Equipement (2)'!$A$401:$K$1720,4,FALSE) -> 1915 | G1949: =VLOOKUP(D1949,'Equipement (2)'!$A$401:$K$1720,11,FALSE) -> Doublon | I1949: =IF(C1949="niv inf",B1949,IF(G1949="niv inf",E1949,F1949)) -> 1915
A1950: 12194 | B1950: =VLOOKUP(A1950,'Equipement (2)'!$A$401:$K$4000,2,FALSE) -> St 3_ST380_1919 | C1950: =VLOOKUP(A1950,'Equipement (2)'!$A$401:$K$4000,11,FALSE) -> doublon | D1950: =VLOOKUP(A1950,'Equipement (2)'!$A$401:$K$4000,4,FALSE) -> 6543 | E1950: =VLOOKUP(D1950,'Equipement (2)'!$A$401:$K$1720,2,FALSE) -> ST380_1919 | F1950: =VLOOKUP(D1950,'Equipement (2)'!$A$401:$K$1720,4,FALSE) -> 1919 | G1950: =VLOOKUP(D1950,'Equipement (2)'!$A$401:$K$1720,11,FALSE) -> Doublon | I1950: =IF(C1950="niv inf",B1950,IF(G1950="niv inf",E1950,F1950)) -> 1919
... A1967: 12256 | B1967: =VLOOKUP(A1967,'Equipement (2)'!$A$401:$K$4000,2,FALSE) -> Grav_Grav_1573 | C1967: =VLOOKUP(A1967,'Equipement (2)'!$A$401:$K$4000,11,FALSE) -> doublon | D1967: =VLOOKUP(A1967,'Equipement (2)'!$A$401:$K$4000,4,FALSE) -> 6587 | E1967: =VLOOKUP(D1967,'Equipement (2)'!$A$401:$K$1720,2,FALSE) -> Grav_1573 | F1967: =VLOOKUP(D1967,'Equipement (2)'!$A$401:$K$1720,4,FALSE) -> 1573 | G1967: =VLOOKUP(D1967,'Equipement (2)'!$A$401:$K$1720,11,FALSE) -> niv inf | I1967: =IF(C1967="niv inf",B1967,IF(G1967="niv inf",E1967,F1967)) -> Grav_1573
