Workbook

Sheet Equipement
A1: CODE EQUIPEMENT | B1: DESIGNATION EQUIPEMENT | C1: CODE PÈRE | D1: TYPE EQUIPEMENT | E1: MARQUE | F1: MODELE | G1: N° SERIE | H1: STATUT
A2: ALLYX | B2: Allyx Technologies
A3: AT1 | B3: Atelier 01 | C3: ALLYX
A4: AT2 | B4: Atelier 02 | C4: ALLYX
A5: CO22 | B5: Compresseur 22 | C5: AT1 | D5: Machines
A6: CHAUD | B6: Chaudière | C6: AT2 | D6: Machines

Sheet Piece - Stock
A1: CODE | B1: DESIGNATION | C1: FAMILLE | D1: SOUS FAMILLE | E1: UNITE STOCK | F1: UNITE COMMANDE | G1: COEFFICIENT (Unité Cde = X x unite stock) | H1: MAGASIN | I1: EMPLACEMENT (Dans le magasin) | J1: QTE REELLE EN STOCK | K1: SEUIL REAPPRO | L1: QTE MAXI
A2: C015813 | B2: DISTRIBUTEUR MECAFLUID REF:DS2B | C2: Distributeurs | D2: 2 voies | E2: Unité | F2: Boite 10 | G2: 10 | H2: Magasin | I2: STOCK-0001-0027-011-05 | J2: 10 | K2: 2 | L2: 30
A3: 22500473 | B3: Galets supérieur

Sheet Equipement (2)
A1: Code Equipement | B1: New | C1: Designation Equipement | D1: Code_Pere | E1: Famille equipement | F1: Marque | G1: Modèle | H1: N série | I1: est | J1: Doublon
A2: 1 | B2: 1 | C2: Usine VenP
A3: 2 | B3: 810 | C3: Infrastructure | D3: 1
A4: 3 | B4: 813 | C4: Levage - Manutention | D4: 1
A5: 14 | B5: 1596 | C5: 1596 - Ctrl Coulisse
A6: 18 | B6: 1233 | C6: 1233 - *MOO | D6: 401
A7: 19 | B7: 1561 | C7: 1561 - *EMES | D7: 401
A8: 20 | B8: 1576 | C8: 1576 - * IMOBERORF 2 | D8: 200
A9: 21 | B9: 1626 | C9: 1626 - *MOO | D9: 402
A10: 25 | B10: 1547 | C10: 1547 - COULISSE A BILLES | D10: F91
A11: 26 | B11: 1758 | C11: 1758 - ASSEMBLAGE LEVIER | D11: EDISON
A12: 27 | B12: 1759 | C12: 1759 - ASSEMBLAGE SYSTÈME DE SERRAGE | D12: EDISON
A13: 28 | B13: 1760 | C13: 1760 - EMMANCHEMENT RLT ET TUBES | D13: EDISON
A14: 29 | B14: 1761 | C14: 1761 - Montage ressort | D14: EDISON
A15: 30 | B15: 1762 | C15: 1762 - ASSEMBLAGE SUPPORT DE COLONNE | D15: EDISON
A16: 31 | B16: 1763 | C16: 1763 - Contrôle Final | D16: EDISON
A17: 32 | B17: 1780 | C17: 1780 - Sécurisation emballage | D17: MLBEVO
A18: 33 | B18: 1396 | C18: 1396 - Coulisse-Prépa | D18: B8INF
A19: 34 | B19: 1567 | C19: 1567 - Coulisse | D19: B8INF
A20: 35 | B20: 1471 | C20: 1471 - Injection ENGEL | D20: B8INF
A21: 36 | B21: 1562 | C21: 1562 - *MOO | D21: 403
A22: 37 | B22: 1497 | C22: 1497 - OKU2
A23: 38 | B23: 1601 | C23: 1601 - *EMES | D23: 403
A24: 39 | B24: 4 | C24: 4 - référence outillage pré-montage
A25: 40 | B25: 1600 | C25: 1600 - *MOO | D25: 404
A26: 41 | B26: 1076 | C26: 1076 - *EMS | D26: 404
A27: 42 | B27: 1079 | C27: 1079 - *EMS | D27: 405
A28: 43 | B28: 1621 | C28: 1621 - *EMES IPTE | D28: 406
A29: 44 | B29: 1734 | C29: 1734 - *EMES IPTE | D29: 411
A30: 45 | B30: 1620 | C30: 1620 - *EMES | D30: 411
A31: 46 | B31: 1445 | C31: 1445 - MES | D31: 409
A32: 47 | B32: 1237 | C32: 1237 - *MES | D32: 413
A33: 48 | B33: 1236 | C33: 1236 - *MES | D33: 414
A34: 49 | B34: 1235 | C34: 1235 - *MES | D34: 407
A35: 50 | B35: 1144 | C35: 1144 - *EMS | D35: 408
A36: 50 | B36: EPSC | C36: UAP - EPSC | D36: 1
... A44: 58 | B44: 1051 | C44: 1051 - NAF-NAF | D44: 412
A45: 59 | B45: 1634 | C45: 1634 - presse
A46: 60 | B46: 1234 | C46: 1234 - *MOO | D46: 413
A47: 61 | B47: 1232 | C47: 1232 - *MOO | D47: 414
...

Sheet  Equipement V1
A1: Code Equipement | B1: Designation Equipement | C1: Code_Pere | D1: Famille equipement | E1: Marque | F1: Modèle | G1: N série
A2: 1 | B2: Machines Production
A3: 2 | B3: Infrastructure
A4: 3 | B4: Levage - Manutention
B5: UAP - Axes
B6: UAP - Machoires
B7: UAP - Premontage
B8: UAP - Assemblage
B9: UAP - EPSC
A15: 14 | B15: 1596 - Ctrl Coulisse | C15: 1
A16: 18 | B16: 1233 - *MOO | C16: 1
A17: 19 | B17: 1561 - *EMES | C17: 1
A18: 20 | B18: 1576 - * IMOBERORF 2 | C18: 1
A19: 21 | B19: 1626 - *MOO | C19: 1
A20: 25 | B20: 1547 - COULISSE A BILLES | C20: 1
A21: 26 | B21: 1758 - ASSEMBLAGE LEVIER | C21: 1
A22: 27 | B22: 1759 - ASSEMBLAGE SYSTÈME DE SERRAGE | C22: 1
A23: 28 | B23: 1760 - EMMANCHEMENT RLT ET TUBES | C23: 1
A24: 29 | B24: 1761 - Montage ressort | C24: 1
A25: 30 | B25: 1762 - ASSEMBLAGE SUPPORT DE COLONNE | C25: 1
A26: 31 | B26: 1763 - Contrôle Final | C26: 1
... A3690: 12256 | B3690: Gravage | C3690: 6587

Sheet Equipement Pièces
A1: CODE PIECE | B1: CODE EQUIPEMENT | C1: QUANTITE PAR EQUIPEMENT
A2: C015813 | B2: CO22 | C2: 1
A3: ZV0000000799 | B3: CO22 | C3: 2
A4: ZV0000000815 | B4: CHAUD | C4: 1

Sheet Feuil4
A3: Code_Pere | B3: Designation Equipement
A4: 1
B5: 54 Global ligne
B6: 970 - Atelier Proto
B7: After market
B8: Atelier Essais
B9: FCM
B10: Levage - Manutention
B11: UAP 100 - Presses
B12: UAP 200 - Usinage Machoires
B13: UAP 300 - Axes
B14: UAP 400 - PREMONTAGE
B15: UAP 500 - ASSEMBLAGE
A16: 50
B17: 1362 - Cellule robotisé emballage
B18: 1912 - DRIVE UNIT: Station 300
B19: 1913 - DRIVE UNIT: Station 310
B20: 1914 - DRIVE UNIT: Station 320
B21: 1915 - DRIVE UNIT: Station 330
B22: 1916 - DRIVE UNIT: Station 340
B23: 1917 - DRIVE UNIT: Station 360
B24: 1918 - DRIVE UNIT: Station 370
B25: 1919 - DRIVE UNIT: Station 380
B26: 1920 - DRIVE UNIT: Station 600
B27: 1921 - DRIVE UNIT: Station 610
B28: 1922 - DRIVE UNIT: Station 620
... B39: 1957 - DRIVE UNIT: Station 455
A40: 51
B41: 1946 - POWER PACK: Station 510
B42: 1947 - POWER PACK: Station 520
B43: 1948 - POWER PACK: Station 530
B44: 1949 - POWER PACK: Station 550.1
B45: 1950 - POWER PACK: Station 550.2
B46: 1951 - POWER PACK: Station 560.1
B47: 1952 - POWER PACK: Station 560.2
B48: 1953 - POWER PACK: Station 580
A49: 52
B50: 1714 - Presse Injection Plastique
B51: 1935 - UPPER COLOMN: Station 400
B52: 1936 - UPPER COLOMN: Station 410
...

Sheet Feuil2
A1: N-2 | B1: New code N-2 | C1: doublon N-2 | D1: père n-2 | E1: New | F1: père n-1 | G1: Doublon N-1
A2: 10054 | B2: =VLOOKUP(A2,'Equipement (2)'!$A$401:$K$4000,2,FALSE) -> Ctrl_Ctrl_1596 | C2: =VLOOKUP(A2,'Equipement (2)'!$A$401:$K$4000,11,FALSE) -> doublon | D2: =VLOOKUP(A2,'Equipement (2)'!$A$401:$K$4000,4,FALSE) -> 5062 | E2: =VLOOKUP(D2,'Equipement (2)'!$A$401:$K$1720,2,FALSE) -> Ctrl_1596 | F2: =VLOOKUP(D2,'Equipement (2)'!$A$401:$K$1720,4,FALSE) -> 1596 | G2: =VLOOKUP(D2,'Equipement (2)'!$A$401:$K$1720,11,FALSE) -> Doublon | I2: =IF(C2="niv inf",B2,IF(G2="niv inf",E2,F2)) -> 1596
A3: 10074 | B3: =VLOOKUP(A3,'Equipement (2)'!$A$401:$K$4000,2,FALSE) -> bol _alim_1233 | C3: =VLOOKUP(A3,'Equipement (2)'!$A$401:$K$4000,11,FALSE) -> niv inf | D3: =VLOOKUP(A3,'Equipement (2)'!$A$401:$K$4000,4,FALSE) -> 5071 | E3: =VLOOKUP(D3,'Equipement (2)'!$A$401:$K$1720,2,FALSE) -> alim_1233 | F3: =VLOOKUP(D3,'Equipement (2)'!$A$401:$K$1720,4,FALSE) -> 1233 | G3: =VLOOKUP(D3,'Equipement (2)'!$A$401:$K$1720,11,FALSE) -> niv inf | I3: =IF(C3="niv inf",B3,IF(G3="niv inf",E3,F3)) -> bol _alim_1233
A4: 10075 | B4: =VLOOKUP(A4,'Equipement (2)'!$A$401:$K$4000,2,FALSE) -> pous_alim_1233 | C4: =VLOOKUP(A4,'Equipement (2)'!$A$401:$K$4000,11,FALSE) -> niv inf | D4: =VLOOKUP(A4,'Equipement (2)'!$A$401:$K$4000,4,FALSE) -> 5071 | E4: =VLOOKUP(D4,'Equipement (2)'!$A$401:$K$1720,2,FALSE) -> alim_1233 | F4: =VLOOKUP(D4,'Equipement (2)'!$A$401:$K$1720,4,FALSE) -> 1233 | G4: =VLOOKUP(D4,'Equipement (2)'!$A$401:$K$1720,11,FALSE) -> niv inf | I4: =IF(C4="niv inf",B4,IF(G4="niv inf",E4,F4)) -> pous_alim_1233
A5: 10076 | B5: =VLOOKUP(A5,'Equipement (2)'!$A$401:$K$4000,2,FALSE) -> cont_alim_1233 | C5: =VLOOKUP(A5,'Equipement (2)'!$A$401:$K$4000,11,FALSE) -> niv inf | D5: =VLOOKUP(A5,'Equipement (2)'!$A$401:$K$4000,4,FALSE) -> 5071 | E5: =VLOOKUP(D5,'Equipement (2)'!$A$401:$K$1720,2,FALSE) -> alim_1233 | F5: =VLOOKUP(D5,'Equipement (2)'!$A$401:$K$1720,4,FALSE) -> 1233 | G5: =VLOOKUP(D5,'Equipement (2)'!$A$401:$K$1720,11,FALSE) -> niv inf | I5: =IF(C5="niv inf",B5,IF(G5="niv inf",E5,F5)) -> cont_alim_1233
A6: 10077 | B6: =VLOOKUP(A6,'Equipement (2)'!$A$401:$K$4000,2,FALSE) -> alim_alim_1233 | C6: =VLOOKUP(A6,'Equipement (2)'!$A$401:$K$4000,11,FALSE) -> niv inf | D6: =VLOOKUP(A6,'Equipement (2)'!$A$401:$K$4000,4,FALSE) -> 5071 | E6: =VLOOKUP(D6,'Equipement (2)'!$A$401:$K$1720,2,FALSE) -> alim_1233 | F6: =VLOOKUP(D6,'Equipement (2)'!$A$401:$K$1720,4,FALSE) -> 1233 | G6: =VLOOKUP(D6,'Equipement (2)'!$A$401:$K$1720,11,FALSE) -> niv inf | I6: =IF(C6="niv inf",B6,IF(G6="niv inf",E6,F6)) -> alim_alim_1233
A7: 10078 | B7: =VLOOKUP(A7,'Equipement (2)'!$A$401:$K$4000,2,FALSE) -> croc_mise_1233 | C7: =VLOOKUP(A7,'Equipement (2)'!$A$401:$K$4000,11,FALSE) -> niv inf | D7: =VLOOKUP(A7,'Equipement (2)'!$A$401:$K$4000,4,FALSE) -> 5072 | E7: =VLOOKUP(D7,'Equipement (2)'!$A$401:$K$1720,2,FALSE) -> mise_1233 | F7: =VLOOKUP(D7,'Equipement (2)'!$A$401:$K$1720,4,FALSE) -> 1233 | G7: =VLOOKUP(D7,'Equipement (2)'!$A$401:$K$1720,11,FALSE) -> niv inf | I7: =IF(C7="niv inf",B7,IF(G7="niv inf",E7,F7)) -> croc_mise_1233
A8: 10079 | B8: =VLOOKUP(A8,'Equipement (2)'!$A$401:$K$4000,2,FALSE) -> croc_mise_1233 | C8: =VLOOKUP(A8,'Equipement (2)'!$A$401:$K$4000,11,FALSE) -> niv inf | D8: =VLOOKUP(A8,'Equipement (2)'!$A$401:$K$4000,4,FALSE) -> 5072 | E8: =VLOOKUP(D8,'Equipement (2)'!$A$401:$K$1720,2,FALSE) -> mise_1233 | F8: =VLOOKUP(D8,'Equipement (2)'!$A$401:$K$1720,4,FALSE) -> 1233 | G8: =VLOOKUP(D8,'Equipement (2)'!$A$401:$K$1720,11,FALSE) -> niv inf | I8: =IF(C8="niv inf",B8,IF(G8="niv inf",E8,F8)) -> croc_mise_1233
A9: 10080 | B9: =VLOOKUP(A9,'Equipement (2)'!$A$401:$K$4000,2,FALSE) -> appu_mise_1233 | C9: =VLOOKUP(A9,'Equipement (2)'!$A$401:$K$4000,11,FALSE) -> niv inf | D9: =VLOOKUP(A9,'Equipement (2)'!$A$401:$K$4000,4,FALSE) -> 5072 | E9: =VLOOKUP(D9,'Equipement (2)'!$A$401:$K$1720,2,FALSE) -> mise_1233 | F9: =VLOOKUP(D9,'Equipement (2)'!$A$401:$K$1720,4,FALSE) -> 1233 | G9: =VLOOKUP(D9,'Equipement (2)'!$A$401:$K$1720,11,FALSE) -> niv inf | I9: =IF(C9="niv inf",B9,IF(G9="niv inf",E9,F9)) -> appu_mise_1233
A10: 10081 | B10: =VLOOKUP(A10,'Equipement (2)'!$A$401:$K$4000,2,FALSE) -> appu_mise_1233 | C10: =VLOOKUP(A10,'Equipement (2)'!$A$401:$K$4000,11,FALSE) -> niv inf | D10: =VLOOKUP(A10,'Equipement (2)'!$A$401:$K$4000,4,FALSE) -> 5072 | E10: =VLOOKUP(D10,'Equipement (2)'!$A$401:$K$1720,2,FALSE) -> mise_1233 | F10: =VLOOKUP(D10,'Equipement (2)'!$A$401:$K$1720,4,FALSE) -> 1233 | G10: =VLOOKUP(D10,'Equipement (2)'!$A$401:$K$1720,11,FALSE) -> niv inf | I10: =IF(C10="niv inf",B10,IF(G10="niv inf",E10,F10)) -> appu_mise_1233
A11: 10082 | B11: =VLOOKUP(A11,'Equipement (2)'!$A$401:$K$4000,2,FALSE) -> cont_mise_1233 | C11: =VLOOKUP(A11,'Equipement (2)'!$A$401:$K$4000,11,FALSE) -> niv inf | D11: =VLOOKUP(A11,'Equipement (2)'!$A$401:$K$4000,4,FALSE) -> 5072 | E11: =VLOOKUP(D11,'Equipement (2)'!$A$401:$K$1720,2,FALSE) -> mise_1233 | F11: =VLOOKUP(D11,'Equipement (2)'!$A$401:$K$1720,4,FALSE) -> 1233 | G11: =VLOOKUP(D11,'Equipement (2)'!$A$401:$K$1720,11,FALSE) -> niv inf | I11: =IF(C11="niv inf",B11,IF(G11="niv inf",E11,F11)) -> cont_mise_1233
A12: 10083 | B12: =VLOOKUP(A12,'Equipement (2)'!$A$401:$K$4000,2,FALSE) -> tête_emma_1233 | C12: =VLOOKUP(A12,'Equipement (2)'!$A$401:$K$4000,11,FALSE) -> niv inf | D12: =VLOOKUP(A12,'Equipement (2)'!$A$401:$K$4000,4,FALSE) -> 5073 | E12: =VLOOKUP(D12,'Equipement (2)'!$A$401:$K$1720,2,FALSE) -> emma_1233 | F12: =VLOOKUP(D12,'Equipement (2)'!$A$401:$K$1720,4,FALSE) -> 1233 | G12: =VLOOKUP(D12,'Equipement (2)'!$A$401:$K$1720,11,FALSE) -> niv inf | I12: =IF(C12="niv inf",B12,IF(G12="niv inf",E12,F12)) -> tête_emma_1233
A13: 10084 | B13: =VLOOKUP(A13,'Equipement (2)'!$A$401:$K$4000,2,FALSE) -> avan_emma_1233 | C13: =VLOOKUP(A13,'Equipement (2)'!$A$401:$K$4000,11,FALSE) -> niv inf | D13: =VLOOKUP(A13,'Equipement (2)'!$A$401:$K$4000,4,FALSE) -> 5073 | E13: =VLOOKUP(D13,'Equipement (2)'!$A$401:$K$1720,2,FALSE) -> emma_1233 | F13: =VLOOKUP(D13,'Equipement (2)'!$A$401:$K$1720,4,FALSE) -> 1233 | G13: =VLOOKUP(D13,'Equipement (2)'!$A$401:$K$1720,11,FALSE) -> niv inf | I13: =IF(C13="niv inf",B13,IF(G13="niv inf",E13,F13)) -> avan_emma_1233
... A1937: 12181 | B1937: =VLOOKUP(A1937,'Equipement (2)'!$A$401:$K$4000,2,FALSE) -> St40_ST400_1935 | C1937: =VLOOKUP(A1937,'Equipement (2)'!$A$401:$K$4000,11,FALSE) -> doublon | D1937: =VLOOKUP(A1937,'Equipement (2)'!$A$401:$K$4000,4,FALSE) -> 6530 | E1937: =VLOOKUP(D1937,'Equipement (2)'!$A$401:$K$1720,2,FALSE) -> ST400_1935 | F1937: =VLOOKUP(D1937,'Equipement (2)'!$A$401:$K$1720,4,FALSE) -> 1935 | G1937: =VLOOKUP(D1937,'Equipement (2)'!$A$401:$K$1720,11,FALSE) -> Doublon | I1937: =IF(C1937="niv inf",B1937,IF(G1937="niv inf",E1937,F1937)) -> 1935
A1938: 12182 | B1938: =VLOOKUP(A1938,'Equipement (2)'!$A$401:$K$4000,2,FALSE) -> St41_ST410_400 | C1938: =VLOOKUP(A1938,'Equipement (2)'!$A$401:$K$4000,11,FALSE) -> doublon | D1938: =VLOOKUP(A1938,'Equipement (2)'!$A$401:$K$4000,4,FALSE) -> 6531 | E1938: =VLOOKUP(D1938,'Equipement (2)'!$A$401:$K$1720,2,FALSE) -> ST410_400 | F1938: 1936 | G1938: =VLOOKUP(D1938,'Equipement (2)'!$A$401:$K$1720,11,FALSE) -> Doublon | I1938: =IF(C1938="niv inf",B1938,IF(G1938="niv inf",E1938,F1938)) -> 1936
A1939: 12183 | B1939: =VLOOKUP(A1939,'Equipement (2)'!$A$401:$K$4000,2,FALSE) -> St42_ST420_1937 | C1939: =VLOOKUP(A1939,'Equipement (2)'!$A$401:$K$4000,11,FALSE) -> doublon | D1939: =VLOOKUP(A1939,'Equipement (2)'!$A$401:$K$4000,4,FALSE) -> 6532 | E1939: =VLOOKUP(D1939,'Equipement (2)'!$A$401:$K$1720,2,FALSE) -> ST420_1937 | F1939: =VLOOKUP(D1939,'Equipement (2)'!$A$401:$K$1720,4,FALSE) -> 1937 | G1939: =VLOOKUP(D1939,'Equipement (2)'!$A$401:$K$1720,11,FALSE) -> Doublon | I1939: =IF(C1939="niv inf",B1939,IF(G1939="niv inf",E1939,F1939)) -> 1937
A1940: 12184 | B1940: =VLOOKUP(A1940,'Equipement (2)'!$A$401:$K$4000,2,FALSE) -> St43_ST430_1938 | C1940: =VLOOKUP(A1940,'Equipement (2)'!$A$401:$K$4000,11,FALSE) -> doublon | D1940: =VLOOKUP(A1940,'Equipement (2)'!$A$401:$K$4000,4,FALSE) -> 6533 | E1940: =VLOOKUP(D1940,'Equipement (2)'!$A$401:$K$1720,2,FALSE) -> ST430_1938 | F1940: =VLOOKUP(D1940,'Equipement (2)'!$A$401:$K$1720,4,FALSE) -> 1938 | G1940: =VLOOKUP(D1940,'Equipement (2)'!$A$401:$K$1720,11,FALSE) -> Doublon | I1940: =IF(C1940="niv inf",B1940,IF(G1940="niv inf",E1940,F1940)) -> 1938
A1941: 12185 | B1941: =VLOOKUP(A1941,'Equipement (2)'!$A$401:$K$4000,2,FALSE) -> St44_ST440_1939 | C1941: =VLOOKUP(A1941,'Equipement (2)'!$A$401:$K$4000,11,FALSE) -> doublon | D1941: =VLOOKUP(A1941,'Equipement (2)'!$A$401:$K$4000,4,FALSE) -> 6534 | E1941: =VLOOKUP(D1941,'Equipement (2)'!$A$401:$K$1720,2,FALSE) -> ST440_1939 | F1941: =VLOOKUP(D1941,'Equipement (2)'!$A$401:$K$1720,4,FALSE) -> 1939 | G1941: =VLOOKUP(D1941,'Equipement (2)'!$A$401:$K$1720,11,FALSE) -> Doublon | I1941: =IF(C1941="niv inf",B1941,IF(G1941="niv inf",E1941,F1941)) -> 1939
A1942: 12186 | B1942: =VLOOKUP(A1942,'Equipement (2)'!$A$401:$K$4000,2,FALSE) -> St45_ST450_1940 | C1942: =VLOOKUP(A1942,'Equipement (2)'!$A$401:$K$4000,11,FALSE) -> doublon | D1942: =VLOOKUP(A1942,'Equipement (2)'!$A$401:$K$4000,4,FALSE) -> 6535 | E1942: =VLOOKUP(D1942,'Equipement (2)'!$A$401:$K$1720,2,FALSE) -> ST450_1940 | F1942: =VLOOKUP(D1942,'Equipement (2)'!$A$401:$K$1720,4,FALSE) -> 1940 | G1942: =VLOOKUP(D1942,'Equipement (2)'!$A$401:$K$1720,11,FALSE) -> Doublon | I1942: =IF(C1942="niv inf",B1942,IF(G1942="niv inf",E1942,F1942)) -> 1940
A1943: 12187 | B1943: =VLOOKUP(A1943,'Equipement (2)'!$A$401:$K$4000,2,FALSE) -> St46_ST460_1941 | C1943: =VLOOKUP(A1943,'Equipement (2)'!$A$401:$K$4000,11,FALSE) -> doublon | D1943: =VLOOKUP(A1943,'Equipement (2)'!$A$401:$K$4000,4,FALSE) -> 6536 | E1943: =VLOOKUP(D1943,'Equipement (2)'!$A$401:$K$1720,2,FALSE) -> ST460_1941 | F1943: =VLOOKUP(D1943,'Equipement (2)'!$A$401:$K$1720,4,FALSE) -> 1941 | G1943: =VLOOKUP(D1943,'Equipement (2)'!$A$401:$K$1720,11,FALSE) -> Doublon | I1943: =IF(C1943="niv inf",B1943,IF(G1943="niv inf",E1943,F1943)) -> 1941
A1944: 12188 | B1944: =VLOOKUP(A1944,'Equipement (2)'!$A$401:$K$4000,2,FALSE) -> St47_ST470_1941 | C1944: =VLOOKUP(A1944,'Equipement (2)'!$A$401:$K$4000,11,FALSE) -> doublon | D1944: =VLOOKUP(A1944,'Equipement (2)'!$A$401:$K$4000,4,FALSE) -> 6537 | E1944: =VLOOKUP(D1944,'Equipement (2)'!$A$401:$K$1720,2,FALSE) -> ST470_1941 | F1944: =VLOOKUP(D1944,'Equipement (2)'!$A$401:$K$1720,4,FALSE) -> 1941 | G1944: =VLOOKUP(D1944,'Equipement (2)'!$A$401:$K$1720,11,FALSE) -> Doublon | I1944: =IF(C1944="niv inf",B1944,IF(G1944="niv inf",E1944,F1944)) -> 1941
A1945: 12189 | B1945: =VLOOKUP(A1945,'Equipement (2)'!$A$401:$K$4000,2,FALSE) -> St48_ST480.1_1942 | C1945: =VLOOKUP(A1945,'Equipement (2)'!$A$401:$K$4000,11,FALSE) -> doublon | D1945: =VLOOKUP(A1945,'Equipement (2)'!$A$401:$K$4000,4,FALSE) -> 6538 | E1945: =VLOOKUP(D1945,'Equipement (2)'!$A$401:$K$1720,2,FALSE) -> ST480.1_1942 | F1945: =VLOOKUP(D1945,'Equipement (2)'!$A$401:$K$1720,4,FALSE) -> 1942 | G1945: =VLOOKUP(D1945,'Equipement (2)'!$A$401:$K$1720,11,FALSE) -> Doublon | I1945: =IF(C1945="niv inf",B1945,IF(G1945="niv inf",E1945,F1945)) -> 1942
A1946: 12190 | B1946: =VLOOKUP(A1946,'Equipement (2)'!$A$401:$K$4000,2,FALSE) -> St48_ST480.2_1943 | C1946: =VLOOKUP(A1946,'Equipement (2)'!$A$401:$K$4000,11,FALSE) -> doublon | D1946: =VLOOKUP(A1946,'Equipement (2)'!$A$401:$K$4000,4,FALSE) -> 6539 | E1946: =VLOOKUP(D1946,'Equipement (2)'!$A$401:$K$1720,2,FALSE) -> ST480.2_1943 | F1946: =VLOOKUP(D1946,'Equipement (2)'!$A$401:$K$1720,4,FALSE) -> 1943 | G1946: =VLOOKUP(D1946,'Equipement (2)'!$A$401:$K$1720,11,FALSE) -> Doublon | I1946: =IF(C1946="niv inf",B1946,IF(G1946="niv inf",E1946,F1946)) -> 1943
A1947: 12191 | B1947: =VLOOKUP(A1947,'Equipement (2)'!$A$401:$K$4000,2,FALSE) -> St48_ST485_1944 | C1947: =VLOOKUP(A1947,'Equipement (2)'!$A$401:$K$4000,11,FALSE) -> doublon | D1947: =VLOOKUP(A1947,'Equipement (2)'!$A$401:$K$4000,4,FALSE) -> 6540 | E1947: =VLOOKUP(D1947,'Equipement (2)'!$A$401:$K$1720,2,FALSE) -> ST485_1944 | F1947: =VLOOKUP(D1947,'Equipement (2)'!$A$401:$K$1720,4,FALSE) -> 1944 | G1947: =VLOOKUP(D1947,'Equipement (2)'!$A$401:$K$1720,11,FALSE) -> Doublon | I1947: =IF(C1947="niv inf",B1947,IF(G1947="niv inf",E1947,F1947)) -> 1944
A1948: 12192 | B1948: =VLOOKUP(A1948,'Equipement (2)'!$A$401:$K$4000,2,FALSE) -> St49_ST490_1945 | C1948: =VLOOKUP(A1948,'Equipement (2)'!$A$401:$K$4000,11,FALSE) -> doublon | D1948: =VLOOKUP(A1948,'Equipement (2)'!$A$401:$K$4000,4,FALSE) -> 6541 | E1948: =VLOOKUP(D1948,'Equipement (2)'!$A$401:$K$1720,2,FALSE) -> ST490_1945 | F1948: =VLOOKUP(D1948,'Equipement (2)'!$A$401:$K$1720,4,FALSE) -> 1945 | G1948: =VLOOKUP(D1948,'Equipement (2)'!$A$401:$K$1720,11,FALSE) -> Doublon | I1948: =IF(C1948="niv inf",B1948,IF(G1948="niv inf",E1948,F1948)) -> 1945
A1949: 12193 | B1949: =VLOOKUP(A1949,'Equipement (2)'!$A$401:$K$4000,2,FALSE) -> St 3_ST330_1915 | C1949: =VLOOKUP(A1949,'Equipement (2)'!$A$401:$K$4000,11,FALSE) -> doublon | D1949: =VLOOKUP(A1949,'Equipement (2)'!$A$401:$K$4000,4,FALSE) -> 6542 | E1949: =VLOOKUP(D1949,'Equipement (2)'!$A$401:$K$1720,2,FALSE) -> ST330_1915 | F1949: =VLOOKUP(D1949,'Equipement (2)'!$A$401:$K$1720,4,FALSE) -> 1915 | G1949: =VLOOKUP(D1949,'Equipement (2)'!$A$401:$K$1720,11,FALSE) -> Doublon | I1949: =IF(C1949="niv inf",B1949,IF(G1949="niv inf",E1949,F1949)) -> 1915
A1950: 12194 | B1950: =VLOOKUP(A1950,'Equipement (2)'!$A$401:$K$4000,2,FALSE) -> St 3_ST380_1919 | C1950: =VLOOKUP(A1950,'Equipement (2)'!$A$401:$K$4000,11,FALSE) -> doublon | D1950: =VLOOKUP(A1950,'Equipement (2)'!$A$401:$K$4000,4,FALSE) -> 6543 | E1950: =VLOOKUP(D1950,'Equipement (2)'!$A$401:$K$1720,2,FALSE) -> ST380_1919 | F1950: =VLOOKUP(D1950,'Equipement (2)'!$A$401:$K$1720,4,FALSE) -> 1919 | G1950: =VLOOKUP(D1950,'Equipement (2)'!$A$401:$K$1720,11,FALSE) -> Doublon | I1950: =IF(C1950="niv inf",B1950,IF(G1950="niv inf",E1950,F1950)) -> 1919
... A1967: 12256 | B1967: =VLOOKUP(A1967,'Equipement (2)'!$A$401:$K$4000,2,FALSE) -> Grav_Grav_1573 | C1967: =VLOOKUP(A1967,'Equipement (2)'!$A$401:$K$4000,11,FALSE) -> doublon | D1967: =VLOOKUP(A1967,'Equipement (2)'!$A$401:$K$4000,4,FALSE) -> 6587 | E1967: =VLOOKUP(D1967,'Equipement (2)'!$A$401:$K$1720,2,FALSE) -> Grav_1573 | F1967: =VLOOKUP(D1967,'Equipement (2)'!$A$401:$K$1720,4,FALSE) -> 1573 | G1967: =VLOOKUP(D1967,'Equipement (2)'!$A$401:$K$1720,11,FALSE) -> niv inf | I1967: =IF(C1967="niv inf",B1967,IF(G1967="niv inf",E1967,F1967)) -> Grav_1573
